BEGIN:VCALENDAR
VERSION:2.0
PRODID:-//eventon.com NONSGML v1.0//EN
BEGIN:VEVENT
UID:69e5e395d2841
DTSTAMP:20260420T052805
DTSTART:20200308T130000Z
DTEND:20200308T160000Z
TZID:UTC
LOCATION:
SUMMARY:Laser Tag!
DESCRIPTION: Join us on Sunday\,  March 8th from 1-4 pm for LASER TAG!  Ground Zero Laser Tag will be here to bring us a fun day for the end of March Break. Please bring your completed waiver (click on the links below) or you may fill one out when you&#8217;re here. [..]\nhttps://site1.outreachserver.ca/events/laser-tag/
URL:https://site1.outreachserver.ca/events/laser-tag/
END:VEVENT
END:VCALENDAR